BEGIN:VCALENDAR
VERSION:2.0
PRODID:-//eventon.com NONSGML v1.0//EN
BEGIN:VEVENT
UID:69e5ef54f077b
DTSTAMP:20260420T111812
DTSTART:20200222T080000Z
DTEND:20200222T110000Z
LOCATION:IWKA Akademie Villach 
SUMMARY:Wing Tjun und Taiji Lehrgang Villach
DESCRIPTION: Ausbilder: Sifu Michael Rainer Rückfragen: 0650/303 57 44
END:VEVENT
END:VCALENDAR