BEGIN:VCALENDAR
VERSION:2.0
PRODID:-//eventon.com NONSGML v1.0//EN
BEGIN:VEVENT
UID:69e88b7c1d84d
DTSTAMP:20260422T104900
DTSTART:20200329T070000Z
DTEND:20200329T110000Z
LOCATION:IWKA Akademie Villach 
SUMMARY:CIT (certified instructor training) Akademie Villach
DESCRIPTION: Ausbilder: Sifu Michael Rainer Rückfragen: 0650/303 57 44
END:VEVENT
END:VCALENDAR