BEGIN:VCALENDAR
VERSION:2.0
PRODID:-//eventon.com NONSGML v1.0//EN
BEGIN:VEVENT
UID:69e5f1a005b8d
DTSTAMP:20260420T112800
DTSTART:20200522T070000Z
DTEND:20200522T130000Z
LOCATION:Ossiachersee /Villach Seeuferstraße 109\,  9520 Annenheim
SUMMARY:Insider Circle Training (nur für Schulleiter)
DESCRIPTION: Ausbilder: Sifu Michael Rainer Rückfragen: 0650/303 57 44
END:VEVENT
END:VCALENDAR